BEGIN:VCALENDAR
VERSION:2.0
PRODID:-//ChamberMaster//Event Calendar 2.0//EN
METHOD:PUBLISH
X-PUBLISHED-TTL:P1H
REFRESH-INTERVAL:P1H
CALSCALE:GREGORIAN
BEGIN:VTIMEZONE
TZID:America/Chicago
BEGIN:DAYLIGHT
RRULE:FREQ=YEARLY;BYMONTH=3;BYDAY=2SU
DTSTART:20070101T000000
TZOFFSETFROM:-0600
TZOFFSETTO:-0500
TZNAME:Central Daylight Time
END:DAYLIGHT
BEGIN:STANDARD
RRULE:FREQ=YEARLY;BYMONTH=11;BYDAY=1SU
DTSTART:20070101T000000
TZOFFSETFROM:-0500
TZOFFSETTO:-0600
TZNAME:Central Standard Time
END:STANDARD
END:VTIMEZONE
BEGIN:VEVENT
DTSTART;TZID=America/Chicago:20240119T180000
DTEND;TZID=America/Chicago:20240122T210000
X-MICROSOFT-CDO-ALLDAYEVENT:FALSE
SUMMARY:NWCG S130/S190 Wildland Firefighter Training - Belle Fourche
DESCRIPTION:The BLM will be hosting a S-130/S190 class in Belle Fourche starting Friday\, January 19th at 1800 and running through Monday\, January 22nd (class will be Monday evening).   On Saturday and Sunday class will start at roughly 0730 and currently the class will be hosted at the BLM office at 309 Bonanza St\, Belle Fourche\, SD. \n\nPlease contact Nate Wiedow at 605-892-7030 or nwiedow@blm.gov for questions or to register.
X-ALT-DESC;FMTTYPE=text/html:The BLM will be hosting a S-130/S190 class in Belle Fourche starting Friday\, January 19th at 1800 and running through Monday\, January 22nd (class will be Monday evening).   On Saturday and Sunday class will start at roughly 0730 and currently the class will be hosted at the BLM office at 309 Bonanza St\, Belle Fourche\, SD. \n\nPlease contact Nate Wiedow at 605-892-7030 or nwiedow@blm.gov for questions or to register.
LOCATION:309 Bonanza Street Belle Fourche SD 57717
UID:e.2818.904612
SEQUENCE:3
DTSTAMP:20260425T164235Z
URL:https://members.sdfirefighters.org/event-calendar/Details/nwcg-s130-s190-wildland-firefighter-training-belle-fourche-1020252?sourceTypeId=Hub
END:VEVENT
END:VCALENDAR
